BEGIN:VCALENDAR
VERSION:2.0
PRODID:-//Приход Покрова Пресвятой Богородицы в Граце - ECPv6.14.0//NONSGML v1.0//EN
CALSCALE:GREGORIAN
METHOD:PUBLISH
X-WR-CALNAME:Приход Покрова Пресвятой Богородицы в Граце
X-ORIGINAL-URL:https://pokrova-graz.at
X-WR-CALDESC:Мероприятия для Приход Покрова Пресвятой Богородицы в Граце
REFRESH-INTERVAL;VALUE=DURATION:PT1H
X-Robots-Tag:noindex
X-PUBLISHED-TTL:PT1H
BEGIN:VTIMEZONE
TZID:UTC
BEGIN:STANDARD
TZOFFSETFROM:+0000
TZOFFSETTO:+0000
TZNAME:UTC
DTSTART:20260101T000000
END:STANDARD
END:VTIMEZONE
BEGIN:VEVENT
DTSTART;TZID=UTC:20260426T090000
DTEND;TZID=UTC:20260426T133000
DTSTAMP:20260424T100438
CREATED:20260217T105035Z
LAST-MODIFIED:20260217T105035Z
UID:1020-1777194000-1777210200@pokrova-graz.at
SUMMARY:Неделя 3-я по Пасхе\, свв. жен-мироносиц
DESCRIPTION:9.00 Часы \n9.15 Литургия
URL:https://pokrova-graz.at/event/%d0%bd%d0%b5%d0%b4%d0%b5%d0%bb%d1%8f-3-%d1%8f-%d0%bf%d0%be-%d0%bf%d0%b0%d1%81%d1%85%d0%b5-%d1%81%d0%b2%d0%b2-%d0%b6%d0%b5%d0%bd-%d0%bc%d0%b8%d1%80%d0%be%d0%bd%d0%be%d1%81%d0%b8%d1%86/
LOCATION:Schatzkammerkapelle
CATEGORIES:Литургия
END:VEVENT
BEGIN:VEVENT
DTSTART;TZID=UTC:20260508T163000
DTEND;TZID=UTC:20260508T200000
DTSTAMP:20260424T100438
CREATED:20260217T105458Z
LAST-MODIFIED:20260217T105510Z
UID:1025-1778257800-1778270400@pokrova-graz.at
SUMMARY:Апостола и евангелиста Ма́рка (63)
DESCRIPTION:16.30 Панихда \n17.00 Акафист апостолу и евангелисту Марку \nБеседа со священником
URL:https://pokrova-graz.at/event/%d0%b0%d0%bf%d0%be%d1%81%d1%82%d0%be%d0%bb%d0%b0-%d0%b8-%d0%b5%d0%b2%d0%b0%d0%bd%d0%b3%d0%b5%d0%bb%d0%b8%d1%81%d1%82%d0%b0-%d0%bc%d0%b0%d1%80%d0%ba%d0%b0-63/
LOCATION:Schatzkammerkapelle
CATEGORIES:Акафист
ATTACH;FMTTYPE=image/jpeg:https://pokrova.rusgraz.com/wp-content/uploads/2025/11/p1bl024u52134m1ieu1u22dhc2943.jpg
END:VEVENT
BEGIN:VEVENT
DTSTART;TZID=UTC:20260509T090000
DTEND;TZID=UTC:20260509T153000
DTSTAMP:20260424T100438
CREATED:20260217T105646Z
LAST-MODIFIED:20260217T105646Z
UID:1028-1778317200-1778340600@pokrova-graz.at
SUMMARY:Седмица 4-я по Пасхе. Поминовение усопших воинов
DESCRIPTION:9.00 Часы \n9.15 Литургия \n14:00 Панихида у братской могилы на Центральном кладбище
URL:https://pokrova-graz.at/event/%d1%81%d0%b5%d0%b4%d0%bc%d0%b8%d1%86%d0%b0-4-%d1%8f-%d0%bf%d0%be-%d0%bf%d0%b0%d1%81%d1%85%d0%b5-%d0%bf%d0%be%d0%bc%d0%b8%d0%bd%d0%be%d0%b2%d0%b5%d0%bd%d0%b8%d0%b5-%d1%83%d1%81%d0%be%d0%bf%d1%88%d0%b8/
LOCATION:Schatzkammerkapelle
CATEGORIES:Литургия
END:VEVENT
BEGIN:VEVENT
DTSTART;TZID=UTC:20260517T100000
DTEND;TZID=UTC:20260517T133000
DTSTAMP:20260424T100438
CREATED:20260217T105803Z
LAST-MODIFIED:20260217T105803Z
UID:1030-1779012000-1779024600@pokrova-graz.at
SUMMARY:Неделя 6-я по Пасхе\, о слепом. Мц. Пелаги́и Тарсийской (290)
DESCRIPTION:10.15 Часы \n10.30 Литургия
URL:https://pokrova-graz.at/event/%d0%bd%d0%b5%d0%b4%d0%b5%d0%bb%d1%8f-6-%d1%8f-%d0%bf%d0%be-%d0%bf%d0%b0%d1%81%d1%85%d0%b5-%d0%be-%d1%81%d0%bb%d0%b5%d0%bf%d0%be%d0%bc-%d0%bc%d1%86-%d0%bf%d0%b5%d0%bb%d0%b0%d0%b3%d0%b8%d0%b8/
LOCATION:Schatzkammerkapelle
CATEGORIES:Литургия
END:VEVENT
BEGIN:VEVENT
DTSTART;TZID=UTC:20260521T090000
DTEND;TZID=UTC:20260521T153000
DTSTAMP:20260424T100438
CREATED:20260217T105928Z
LAST-MODIFIED:20260217T105928Z
UID:1032-1779354000-1779377400@pokrova-graz.at
SUMMARY:Вознесение Господне Апостола и евангелиста Иоа́нна Богослова (98–117)
DESCRIPTION:9.00 Часы \n9.15 Литургия
URL:https://pokrova-graz.at/event/%d0%b2%d0%be%d0%b7%d0%bd%d0%b5%d1%81%d0%b5%d0%bd%d0%b8%d0%b5-%d0%b3%d0%be%d1%81%d0%bf%d0%be%d0%b4%d0%bd%d0%b5-%d0%b0%d0%bf%d0%be%d1%81%d1%82%d0%be%d0%bb%d0%b0-%d0%b8-%d0%b5%d0%b2%d0%b0%d0%bd%d0%b3/
LOCATION:Schatzkammerkapelle
CATEGORIES:Литургия
END:VEVENT
BEGIN:VEVENT
DTSTART;TZID=UTC:20260521T163000
DTEND;TZID=UTC:20260521T180000
DTSTAMP:20260424T100438
CREATED:20260217T110141Z
LAST-MODIFIED:20260217T110141Z
UID:1034-1779381000-1779386400@pokrova-graz.at
SUMMARY:Акафист свт. Николаю Чудотворцу
DESCRIPTION:16.30 Акафист свт. Николаю Чудотворцу
URL:https://pokrova-graz.at/event/%d0%b0%d0%ba%d0%b0%d1%84%d0%b8%d1%81%d1%82-%d1%81%d0%b2%d1%82-%d0%bd%d0%b8%d0%ba%d0%be%d0%bb%d0%b0%d1%8e-%d1%87%d1%83%d0%b4%d0%be%d1%82%d0%b2%d0%be%d1%80%d1%86%d1%83/
LOCATION:Schatzkammerkapelle
CATEGORIES:Акафист
ATTACH;FMTTYPE=image/jpeg:https://pokrova.rusgraz.com/wp-content/uploads/2025/11/p1bl024u52134m1ieu1u22dhc2943.jpg
END:VEVENT
BEGIN:VEVENT
DTSTART;TZID=UTC:20260531T090000
DTEND;TZID=UTC:20260531T133000
DTSTAMP:20260424T100438
CREATED:20260217T110245Z
LAST-MODIFIED:20260217T110245Z
UID:1036-1780218000-1780234200@pokrova-graz.at
SUMMARY:День Святой Троицы. Пятидесятница
DESCRIPTION:9.00 Часы \n9.15 Литургия
URL:https://pokrova-graz.at/event/%d0%b4%d0%b5%d0%bd%d1%8c-%d1%81%d0%b2%d1%8f%d1%82%d0%be%d0%b9-%d1%82%d1%80%d0%be%d0%b8%d1%86%d1%8b-%d0%bf%d1%8f%d1%82%d0%b8%d0%b4%d0%b5%d1%81%d1%8f%d1%82%d0%bd%d0%b8%d1%86%d0%b0/
LOCATION:Schatzkammerkapelle
CATEGORIES:Литургия
END:VEVENT
END:VCALENDAR